BEGIN:VCALENDAR
VERSION:2.0
PRODID:-//Augusto Mobnex - ECPv4.6.17//NONSGML v1.0//EN
CALSCALE:GREGORIAN
METHOD:PUBLISH
X-WR-CALNAME:Augusto Mobnex
X-ORIGINAL-URL:https://demo.mobnex.com.br
X-WR-CALDESC:Eventos para Augusto Mobnex
BEGIN:VEVENT
DTSTART;TZID=America/Sao_Paulo:20180814T123000
DTEND;TZID=America/Sao_Paulo:20180814T143000
DTSTAMP:20260419T185054
CREATED:20180719T182454Z
LAST-MODIFIED:20180806T194222Z
UID:1385-1534249800-1534257000@demo.mobnex.com.br
SUMMARY:Almoço com a Família
DESCRIPTION:Donec sodales pulvinar imperdiet. In vel rhoncus magna\, sit amet egestas dui. Suspendisse varius enim ut luctus lobortis. Ut euismod fringilla dolor vel aliquet. Sed ac eros in urna malesuada aliquet. Aliquam et ultrices orci\, eu ornare ligula. Cras laoreet\, elit sit amet facilisis dictum\, nisl magna commodo metus\, in mattis elit leo non mi. Cras sed est ut libero facilisis tempor. \n
URL:https://demo.mobnex.com.br/evento/almoco-com-a-familia/
END:VEVENT
END:VCALENDAR