BEGIN:VCALENDAR
VERSION:2.0
PRODID:-//Augusto Mobnex - ECPv4.6.17//NONSGML v1.0//EN
CALSCALE:GREGORIAN
METHOD:PUBLISH
X-WR-CALNAME:Augusto Mobnex
X-ORIGINAL-URL:https://demo.mobnex.com.br
X-WR-CALDESC:Eventos para Augusto Mobnex
BEGIN:VEVENT
DTSTART;TZID=America/Sao_Paulo:20180812T080000
DTEND;TZID=America/Sao_Paulo:20180812T093000
DTSTAMP:20260419T174804
CREATED:20180719T184743Z
LAST-MODIFIED:20180721T092506Z
UID:1393-1534060800-1534066200@demo.mobnex.com.br
SUMMARY:Café da Manhã com Apoiadores do Ribeirinha
DESCRIPTION:Donec posuere fermentum nunc\, ac viverra nisi pharetra in. Pellentesque condimentum erat nulla\, eget convallis arcu sollicitudin non. Maecenas interdum leo lorem\, id semper diam sollicitudin eu. Nulla at rutrum lacus\, ac egestas est. Nullam convallis lacus et est lacinia\, vitae tincidunt augue tincidunt. \n
URL:https://demo.mobnex.com.br/evento/cafe-da-manha-com-apoiadores-do-ribeirinha/
END:VEVENT
END:VCALENDAR