BEGIN:VCALENDAR
VERSION:2.0
PRODID:-//Augusto Mobnex - ECPv4.6.17//NONSGML v1.0//EN
CALSCALE:GREGORIAN
METHOD:PUBLISH
X-WR-CALNAME:Augusto Mobnex
X-ORIGINAL-URL:https://demo.mobnex.com.br
X-WR-CALDESC:Eventos para Augusto Mobnex
BEGIN:VEVENT
DTSTART;TZID=America/Sao_Paulo:20180812T090000
DTEND;TZID=America/Sao_Paulo:20180812T170000
DTSTAMP:20260419T174514
CREATED:20180719T184837Z
LAST-MODIFIED:20180721T092442Z
UID:1396-1534064400-1534093200@demo.mobnex.com.br
SUMMARY:Convenção Partidária
DESCRIPTION:Suspendisse nisl purus\, cursus eu augue quis\, ultrices laoreet mi. Donec ultricies lectus volutpat vestibulum gravida. Duis laoreet enim sed urna pharetra\, in bibendum nunc posuere. Sed eget lacus in metus convallis auctor at et turpis. Nam libero lorem\, malesuada in libero quis\, dignissim viverra lacus. \n
URL:https://demo.mobnex.com.br/evento/convencao-partidaria/
LOCATION:Av Paulista\, 1313
END:VEVENT
END:VCALENDAR