BEGIN:VCALENDAR
VERSION:2.0
PRODID:-//Augusto Mobnex - ECPv4.6.17//NONSGML v1.0//EN
CALSCALE:GREGORIAN
METHOD:PUBLISH
X-WR-CALNAME:Augusto Mobnex
X-ORIGINAL-URL:https://demo.mobnex.com.br
X-WR-CALDESC:Eventos para Augusto Mobnex
BEGIN:VEVENT
DTSTART;TZID=America/Sao_Paulo:20180814T143000
DTEND;TZID=America/Sao_Paulo:20180814T170000
DTSTAMP:20260419T175407
CREATED:20180719T182304Z
LAST-MODIFIED:20180806T194328Z
UID:1383-1534257000-1534266000@demo.mobnex.com.br
SUMMARY:Encontro com Professores
DESCRIPTION:Etiam at mattis velit. Mauris consequat commodo elementum. Suspendisse ultricies blandit pretium. Suspendisse potenti. Quisque at urna luctus\, cursus metus id\, porttitor turpis. Cras vitae arcu tempus\, laoreet lorem quis\, viverra velit. Fusce venenatis tellus ut massa volutpat\, non luctus dui bibendum. \n
URL:https://demo.mobnex.com.br/evento/encontro-com-professores/
END:VEVENT
END:VCALENDAR