BEGIN:VCALENDAR
VERSION:2.0
PRODID:-//Augusto Mobnex - ECPv4.6.17//NONSGML v1.0//EN
CALSCALE:GREGORIAN
METHOD:PUBLISH
X-WR-CALNAME:Augusto Mobnex
X-ORIGINAL-URL:https://demo.mobnex.com.br
X-WR-CALDESC:Eventos para Augusto Mobnex
BEGIN:VEVENT
DTSTART;TZID=America/Sao_Paulo:20180813T150000
DTEND;TZID=America/Sao_Paulo:20180813T170000
DTSTAMP:20260419T174910
CREATED:20180719T184136Z
LAST-MODIFIED:20180806T193042Z
UID:1387-1534172400-1534179600@demo.mobnex.com.br
SUMMARY:Tarde de Metas
DESCRIPTION:Praesent semper\, ante ut condimentum convallis\, nibh ipsum placerat mauris\, nec malesuada nulla odio non sem. Sed interdum blandit sem non tempor. Integer non fringilla tortor. Nam eget nisl non est luctus lacinia at eget ligula. Suspendisse faucibus\, sapien eu mattis egestas\, diam ligula commodo turpis\, at scelerisque lorem dolor sed nisl. \n
URL:https://demo.mobnex.com.br/evento/tarde-de-metas/
LOCATION:Av. Pedro Álvares Cabral - Vila Mariana\, São Paulo\, 04002-010\, Brasil
END:VEVENT
END:VCALENDAR